BEGIN:VCALENDAR
VERSION:2.0
PRODID:-//Contratero//ES
CALSCALE:GREGORIAN
METHOD:PUBLISH
BEGIN:VEVENT
UID:2024/4@contratero.es
DTSTAMP:20260420T181929Z
DTSTART:20250123T235959
DTEND:20250124T005959
SUMMARY:Cierre: Mantenimiento preventivo y correctivo de la herram
DESCRIPTION:Mantenimiento preventivo y correctivo de la herramienta informática Bio-eBank\, para las anualidades 2025\, 2026\, 2027 y 2028\, que precise el Instituto de Investigación Biomédica de Salamanca.\\n\\nOrganismo: Instituto de Investigación Biomédica de Salamanca (IBSAL)\\n\\nVer en Contratero: https://contratero.es/contracts/2024/4
URL:https://contratero.es/contracts/2024/4
STATUS:CONFIRMED
BEGIN:VALARM
TRIGGER:-P1D
ACTION:DISPLAY
DESCRIPTION:Recordatorio: Mantenimiento preventivo y cor
END:VALARM
END:VEVENT
END:VCALENDAR