BEGIN:VCALENDAR
VERSION:2.0
PRODID:-//Contratero//ES
CALSCALE:GREGORIAN
METHOD:PUBLISH
BEGIN:VEVENT
UID:2024/4001@contratero.es
DTSTAMP:20260422T113520Z
DTSTART:20240702T235959
DTEND:20240703T005959
SUMMARY:Cierre: Suministro de licencia de despliegue ilimitado de 
DESCRIPTION:Suministro de licencia de despliegue ilimitado de opción de base de datos para encriptación y actualización\, y servicio de soporte de la base instalada de productos Oracle\\n\\nOrganismo: Gerencia de Informática de la Seguridad Social\\n\\nVer en Contratero: https://contratero.es/contracts/2024/4001
URL:https://contratero.es/contracts/2024/4001
STATUS:CONFIRMED
BEGIN:VALARM
TRIGGER:-P1D
ACTION:DISPLAY
DESCRIPTION:Recordatorio: Suministro de licencia de desp
END:VALARM
END:VEVENT
END:VCALENDAR