BEGIN:VCALENDAR
VERSION:2.0
PRODID:-//Contratero//ES
CALSCALE:GREGORIAN
METHOD:PUBLISH
BEGIN:VEVENT
UID:2024/4153J@contratero.es
DTSTAMP:20260423T231342Z
DTSTART:20240603T235959
DTEND:20240604T005959
SUMMARY:Cierre: Contracte de subministrament de la renovació de la
DESCRIPTION:Contracte de subministrament de la renovació de la garantia i manteniment de la cabina i servidors del cpd de l’ajuntament de Marratxi\\n\\nOrganismo: Alcaldia del Ayuntamiento de Marratxí\\n\\nVer en Contratero: https://contratero.es/contracts/2024/4153J
URL:https://contratero.es/contracts/2024/4153J
STATUS:CONFIRMED
BEGIN:VALARM
TRIGGER:-P1D
ACTION:DISPLAY
DESCRIPTION:Recordatorio: Contracte de subministrament d
END:VALARM
END:VEVENT
END:VCALENDAR