BEGIN:VCALENDAR
VERSION:2.0
PRODID:-//Contratero//ES
CALSCALE:GREGORIAN
METHOD:PUBLISH
BEGIN:VEVENT
UID:2024/55/CSER@contratero.es
DTSTAMP:20260425T013017Z
DTSTART:20240906T235959
DTEND:20240907T005959
SUMMARY:Cierre: Contrato de servicio de mantenimiento y soporte de
DESCRIPTION:Contrato de servicio de mantenimiento y soporte de microinformática del IMAS\\n\\nOrganismo: Presidencia del Institut Mallorquí d' Afers Socials\\n\\nVer en Contratero: https://contratero.es/contracts/2024/55/CSER
URL:https://contratero.es/contracts/2024/55/CSER
STATUS:CONFIRMED
BEGIN:VALARM
TRIGGER:-P1D
ACTION:DISPLAY
DESCRIPTION:Recordatorio: Contrato de servicio de manten
END:VALARM
END:VEVENT
END:VCALENDAR