BEGIN:VCALENDAR
VERSION:2.0
PRODID:-//Contratero//ES
CALSCALE:GREGORIAN
METHOD:PUBLISH
BEGIN:VEVENT
UID:2024/76-GUACON@contratero.es
DTSTAMP:20260420T224841Z
DTSTART:20250214T235959
DTEND:20250215T005959
SUMMARY:Cierre: Contrato administrativo de servicio de líneas de d
DESCRIPTION:Contrato administrativo de servicio de líneas de datos de acceso a internet del Ayuntamiento de Aspe.\\n\\nOrganismo: Junta de Gobierno del Ayuntamiento de Aspe\\n\\nVer en Contratero: https://contratero.es/contracts/2024/76-GUACON
URL:https://contratero.es/contracts/2024/76-GUACON
STATUS:CONFIRMED
BEGIN:VALARM
TRIGGER:-P1D
ACTION:DISPLAY
DESCRIPTION:Recordatorio: Contrato administrativo de ser
END:VALARM
END:VEVENT
END:VCALENDAR