BEGIN:VCALENDAR
VERSION:2.0
PRODID:-//Contratero//ES
CALSCALE:GREGORIAN
METHOD:PUBLISH
BEGIN:VEVENT
UID:2024/A/ASC/0562@contratero.es
DTSTAMP:20260422T161852Z
DTSTART:20240902T235959
DTEND:20240903T005959
SUMMARY:Cierre: Suministro\, instalación\, configuración y operación
DESCRIPTION:Suministro\, instalación\, configuración y operación de un sistema de orquestación y automatización de la respuesta (SOAR)\\n\\nOrganismo: Gerencia de MAZ Mútua de Accidentes de Trabajo y Enfermedades Profesionales de la Seguridad Social nº 11\\n\\nVer en Contratero: https://contratero.es/contracts/2024/A/ASC/0562
URL:https://contratero.es/contracts/2024/A/ASC/0562
STATUS:CONFIRMED
BEGIN:VALARM
TRIGGER:-P1D
ACTION:DISPLAY
DESCRIPTION:Recordatorio: Suministro\, instalación\, confi
END:VALARM
END:VEVENT
END:VCALENDAR