BEGIN:VCALENDAR
VERSION:2.0
PRODID:-//Contratero//ES
CALSCALE:GREGORIAN
METHOD:PUBLISH
BEGIN:VEVENT
UID:2024/AR40U/00000194E@contratero.es
DTSTAMP:20260425T230410Z
DTSTART:20240429T235959
DTEND:20240430T005959
SUMMARY:Cierre: Mantenimiento sistema de gestión de las farmacias 
DESCRIPTION:Mantenimiento sistema de gestión de las farmacias de la armada\\n\\nOrganismo: Dirección de Gestión Económica de la Jefatura de Apoyo Logístico de la Armada\\n\\nVer en Contratero: https://contratero.es/contracts/2024/AR40U/00000194E
URL:https://contratero.es/contracts/2024/AR40U/00000194E
STATUS:CONFIRMED
BEGIN:VALARM
TRIGGER:-P1D
ACTION:DISPLAY
DESCRIPTION:Recordatorio: Mantenimiento sistema de gesti
END:VALARM
END:VEVENT
END:VCALENDAR