BEGIN:VCALENDAR
VERSION:2.0
PRODID:-//Contratero//ES
CALSCALE:GREGORIAN
METHOD:PUBLISH
BEGIN:VEVENT
UID:2024/AR40U/00000546E@contratero.es
DTSTAMP:20260422T130801Z
DTSTART:20240923T235959
DTEND:20240924T005959
SUMMARY:Cierre: ”Servicio de "Sistema de seguridad física intelige
DESCRIPTION:”Servicio de "Sistema de seguridad física inteligente norte"\\n\\nOrganismo: Dirección de Gestión Económica de la Jefatura de Apoyo Logístico de la Armada\\n\\nVer en Contratero: https://contratero.es/contracts/2024/AR40U/00000546E
URL:https://contratero.es/contracts/2024/AR40U/00000546E
STATUS:CONFIRMED
BEGIN:VALARM
TRIGGER:-P1D
ACTION:DISPLAY
DESCRIPTION:Recordatorio: ”Servicio de "Sistema de segur
END:VALARM
END:VEVENT
END:VCALENDAR