BEGIN:VCALENDAR
VERSION:2.0
PRODID:-//Contratero//ES
CALSCALE:GREGORIAN
METHOD:PUBLISH
BEGIN:VEVENT
UID:2024/AR40U/00000843E@contratero.es
DTSTAMP:20260425T013115Z
DTSTART:20240705T235959
DTEND:20240706T005959
SUMMARY:Cierre: SINFO- Servicio para el acceso a bases de datos S-
DESCRIPTION:SINFO- Servicio para el acceso a bases de datos S-AIS\\n\\nOrganismo: Dirección de Gestión Económica de la Jefatura de Apoyo Logístico de la Armada\\n\\nVer en Contratero: https://contratero.es/contracts/2024/AR40U/00000843E
URL:https://contratero.es/contracts/2024/AR40U/00000843E
STATUS:CONFIRMED
BEGIN:VALARM
TRIGGER:-P1D
ACTION:DISPLAY
DESCRIPTION:Recordatorio: SINFO- Servicio para el acceso
END:VALARM
END:VEVENT
END:VCALENDAR