BEGIN:VCALENDAR
VERSION:2.0
PRODID:-//Contratero//ES
CALSCALE:GREGORIAN
METHOD:PUBLISH
BEGIN:VEVENT
UID:2024/AR40U/00002045E@contratero.es
DTSTAMP:20260423T032925Z
DTSTART:20250217T235959
DTEND:20250218T005959
SUMMARY:Cierre: Acuerdo Marco para mantenimiento\, desarrollo y act
DESCRIPTION:Acuerdo Marco para mantenimiento\, desarrollo y actualización del sistema de automatización de tareas de vigilancia en la Armada (SIL-ATAVIA).\\n\\nOrganismo: Dirección de Gestión Económica de la Jefatura de Apoyo Logístico de la Armada\\n\\nVer en Contratero: https://contratero.es/contracts/2024/AR40U/00002045E
URL:https://contratero.es/contracts/2024/AR40U/00002045E
STATUS:CONFIRMED
BEGIN:VALARM
TRIGGER:-P1D
ACTION:DISPLAY
DESCRIPTION:Recordatorio: Acuerdo Marco para mantenimien
END:VALARM
END:VEVENT
END:VCALENDAR