BEGIN:VCALENDAR
VERSION:2.0
PRODID:-//Contratero//ES
CALSCALE:GREGORIAN
METHOD:PUBLISH
BEGIN:VEVENT
UID:2024/AR42U/00003748E@contratero.es
DTSTAMP:20260420T114319Z
DTSTART:20250224T235959
DTEND:20250225T005959
SUMMARY:Cierre: Servicios técnicos de análisis\, identificación\, op
DESCRIPTION:Servicios técnicos de análisis\, identificación\, optimización y definición de los procesos de trabajo del Arsenal de Ferrol. Proyecto TAJAMAR. Fase 3.\\n\\nOrganismo: Intendente de Ferrol\\n\\nVer en Contratero: https://contratero.es/contracts/2024/AR42U/00003748E
URL:https://contratero.es/contracts/2024/AR42U/00003748E
STATUS:CONFIRMED
BEGIN:VALARM
TRIGGER:-P1D
ACTION:DISPLAY
DESCRIPTION:Recordatorio: Servicios técnicos de análisis
END:VALARM
END:VEVENT
END:VCALENDAR