BEGIN:VCALENDAR
VERSION:2.0
PRODID:-//Contratero//ES
CALSCALE:GREGORIAN
METHOD:PUBLISH
BEGIN:VEVENT
UID:2024/AR43U/00001537@contratero.es
DTSTAMP:20260419T224951Z
DTSTART:20240904T235959
DTEND:20240905T005959
SUMMARY:Cierre: Servicio de mantenimiento del archivo científico d
DESCRIPTION:Servicio de mantenimiento del archivo científico del Instituto Hidrográfico de la Marina (IHM)\\n\\nOrganismo: Intendente de San Fernando\\n\\nVer en Contratero: https://contratero.es/contracts/2024/AR43U/00001537
URL:https://contratero.es/contracts/2024/AR43U/00001537
STATUS:CONFIRMED
BEGIN:VALARM
TRIGGER:-P1D
ACTION:DISPLAY
DESCRIPTION:Recordatorio: Servicio de mantenimiento del 
END:VALARM
END:VEVENT
END:VCALENDAR