BEGIN:VCALENDAR
VERSION:2.0
PRODID:-//Contratero//ES
CALSCALE:GREGORIAN
METHOD:PUBLISH
BEGIN:VEVENT
UID:2024/ASA/SUM/0100@contratero.es
DTSTAMP:20260422T093457Z
DTSTART:20250325T235959
DTEND:20250326T005959
SUMMARY:Cierre: Suministro de licencias del producto "Redgate" de 
DESCRIPTION:Suministro de licencias del producto "Redgate" de Mutua MAZ M.C.S.S. N.º 11\\n\\nOrganismo: Dirección Área Jurídica y Prestación de MAZ\, Mutua Colaboradora con la Seguridad Social\, Nº 11\\n\\nVer en Contratero: https://contratero.es/contracts/2024/ASA/SUM/0100
URL:https://contratero.es/contracts/2024/ASA/SUM/0100
STATUS:CONFIRMED
BEGIN:VALARM
TRIGGER:-P1D
ACTION:DISPLAY
DESCRIPTION:Recordatorio: Suministro de licencias del pr
END:VALARM
END:VEVENT
END:VCALENDAR