BEGIN:VCALENDAR
VERSION:2.0
PRODID:-//Contratero//ES
CALSCALE:GREGORIAN
METHOD:PUBLISH
BEGIN:VEVENT
UID:2024/C004/000003@contratero.es
DTSTAMP:20260422T210531Z
DTSTART:20240524T235959
DTEND:20240525T005959
SUMMARY:Cierre: Servicio de Asistencia informática y sistemas elec
DESCRIPTION:Servicio de Asistencia informática y sistemas electrónicos del Ayuntamiento de Curtis\\n\\nOrganismo: Alcaldía del Ayuntamiento de Curtis\\n\\nVer en Contratero: https://contratero.es/contracts/2024/C004/000003
URL:https://contratero.es/contracts/2024/C004/000003
STATUS:CONFIRMED
BEGIN:VALARM
TRIGGER:-P1D
ACTION:DISPLAY
DESCRIPTION:Recordatorio: Servicio de Asistencia informá
END:VALARM
END:VEVENT
END:VCALENDAR