BEGIN:VCALENDAR
VERSION:2.0
PRODID:-//Contratero//ES
CALSCALE:GREGORIAN
METHOD:PUBLISH
BEGIN:VEVENT
UID:2024/CON/S231/00004@contratero.es
DTSTAMP:20260420T090642Z
DTSTART:20240930T235959
DTEND:20241001T005959
SUMMARY:Cierre: Servicio de acceso a internet (lote 2 AM 12/21/CSI
DESCRIPTION:Servicio de acceso a internet (lote 2 AM 12/21/CSI)\\n\\nOrganismo: Presidencia del Consorcio para el Servicio de Prevención y Extinción de Incendios y de Salvamento de la Provincia de Valencia\\n\\nVer en Contratero: https://contratero.es/contracts/2024/CON/S231/00004
URL:https://contratero.es/contracts/2024/CON/S231/00004
STATUS:CONFIRMED
BEGIN:VALARM
TRIGGER:-P1D
ACTION:DISPLAY
DESCRIPTION:Recordatorio: Servicio de acceso a internet 
END:VALARM
END:VEVENT
END:VCALENDAR