BEGIN:VCALENDAR
VERSION:2.0
PRODID:-//Contratero//ES
CALSCALE:GREGORIAN
METHOD:PUBLISH
BEGIN:VEVENT
UID:2024/CON_02/000010@contratero.es
DTSTAMP:20260422T130638Z
DTSTART:20240314T235959
DTEND:20240315T005959
SUMMARY:Cierre: Contratación por lotes de la contratación del sumi
DESCRIPTION:Contratación por lotes de la contratación del suministro e implantación de chatbots municipales\, herramientas para la mejora de la accesibilidad de las webs municipales y módulo de transparencia finan...\\n\\nOrganismo: Junta de Gobierno de la Diputación Provincial de Lugo\\n\\nVer en Contratero: https://contratero.es/contracts/2024/CON_02/000010
URL:https://contratero.es/contracts/2024/CON_02/000010
STATUS:CONFIRMED
BEGIN:VALARM
TRIGGER:-P1D
ACTION:DISPLAY
DESCRIPTION:Recordatorio: Contratación por lotes de la c
END:VALARM
END:VEVENT
END:VCALENDAR