BEGIN:VCALENDAR
VERSION:2.0
PRODID:-//Contratero//ES
CALSCALE:GREGORIAN
METHOD:PUBLISH
BEGIN:VEVENT
UID:2024/EA02/00000654E@contratero.es
DTSTAMP:20260422T030756Z
DTSTART:20241018T235959
DTEND:20241019T005959
SUMMARY:Cierre: 20244107 Potenciación de capacidades nacionales an
DESCRIPTION:20244107 Potenciación de capacidades nacionales análisis de efectos armamento E.A.\\n\\nOrganismo: Dirección de Adquisiciones del Mando de Apoyo Logístico del Ejército del Aire y del Espacio\\n\\nVer en Contratero: https://contratero.es/contracts/2024/EA02/00000654E
URL:https://contratero.es/contracts/2024/EA02/00000654E
STATUS:CONFIRMED
BEGIN:VALARM
TRIGGER:-P1D
ACTION:DISPLAY
DESCRIPTION:Recordatorio: 20244107 Potenciación de capac
END:VALARM
END:VEVENT
END:VCALENDAR