BEGIN:VCALENDAR
VERSION:2.0
PRODID:-//Contratero//ES
CALSCALE:GREGORIAN
METHOD:PUBLISH
BEGIN:VEVENT
UID:2024/ETSAE0902/00000833E@contratero.es
DTSTAMP:20260421T022316Z
DTSTART:20240717T235959
DTEND:20240718T005959
SUMMARY:Cierre: Desarrollo\, automatización y digitalización de pro
DESCRIPTION:Desarrollo\, automatización y digitalización de procesos internos en APPIAN para el Ejército de Tierra\\n\\nOrganismo: Jefatura de Asuntos Económicos del Estado Mayor del Ejército\\n\\nVer en Contratero: https://contratero.es/contracts/2024/ETSAE0902/00000833E
URL:https://contratero.es/contracts/2024/ETSAE0902/00000833E
STATUS:CONFIRMED
BEGIN:VALARM
TRIGGER:-P1D
ACTION:DISPLAY
DESCRIPTION:Recordatorio: Desarrollo\, automatización y d
END:VALARM
END:VEVENT
END:VCALENDAR