BEGIN:VCALENDAR
VERSION:2.0
PRODID:-//Contratero//ES
CALSCALE:GREGORIAN
METHOD:PUBLISH
BEGIN:VEVENT
UID:2024/ETSAE0904/00000443E@contratero.es
DTSTAMP:20260424T140818Z
DTSTART:20241025T235959
DTEND:20241026T005959
SUMMARY:Cierre: Acuerdo Marco para la ejecución de trabajos técnic
DESCRIPTION:Acuerdo Marco para la ejecución de trabajos técnicos relacionados con los riesgos en la arquitectura nube táctica de combate e implementación de herramienta de conciencia situacional del ámbito cibere...\\n\\nOrganismo: Sección de Asuntos Económicos de la Jefatura Sistemas de Información\, Telecomunicaciones y Asistencia Técnica\\n\\nVer en Contratero: https://contratero.es/contracts/2024/ETSAE0904/00000443E
URL:https://contratero.es/contracts/2024/ETSAE0904/00000443E
STATUS:CONFIRMED
BEGIN:VALARM
TRIGGER:-P1D
ACTION:DISPLAY
DESCRIPTION:Recordatorio: Acuerdo Marco para la ejecució
END:VALARM
END:VEVENT
END:VCALENDAR