BEGIN:VCALENDAR
VERSION:2.0
PRODID:-//Contratero//ES
CALSCALE:GREGORIAN
METHOD:PUBLISH
BEGIN:VEVENT
UID:2024/ETSAE0904/00000557E@contratero.es
DTSTAMP:20260424T132456Z
DTSTART:20240903T235959
DTEND:20240904T005959
SUMMARY:Cierre: AT para la evaluación de tecnologías de video stre
DESCRIPTION:AT para la evaluación de tecnologías de video streaming actuales para su implementación en sistemas de C2 ET en operaciones mantenimiento de paz\\n\\nOrganismo: Sección de Asuntos Económicos de la Jefatura Sistemas de Información\, Telecomunicaciones y Asistencia Técnica\\n\\nVer en Contratero: https://contratero.es/contracts/2024/ETSAE0904/00000557E
URL:https://contratero.es/contracts/2024/ETSAE0904/00000557E
STATUS:CONFIRMED
BEGIN:VALARM
TRIGGER:-P1D
ACTION:DISPLAY
DESCRIPTION:Recordatorio: AT para la evaluación de tecno
END:VALARM
END:VEVENT
END:VCALENDAR