BEGIN:VCALENDAR
VERSION:2.0
PRODID:-//Contratero//ES
CALSCALE:GREGORIAN
METHOD:PUBLISH
BEGIN:VEVENT
UID:2024/ETSAE0906/00002908E@contratero.es
DTSTAMP:20260420T151612Z
DTSTART:20241015T235959
DTEND:20241016T005959
SUMMARY:Cierre: Servicios de mantenimiento para instalación y conf
DESCRIPTION:Servicios de mantenimiento para instalación y configuración de equipos de Mando y Control UM_022_24_R\\n\\nOrganismo: Jefatura de Asuntos Económicos del Mando de Apoyo Logístico\\n\\nVer en Contratero: https://contratero.es/contracts/2024/ETSAE0906/00002908E
URL:https://contratero.es/contracts/2024/ETSAE0906/00002908E
STATUS:CONFIRMED
BEGIN:VALARM
TRIGGER:-P1D
ACTION:DISPLAY
DESCRIPTION:Recordatorio: Servicios de mantenimiento par
END:VALARM
END:VEVENT
END:VCALENDAR