BEGIN:VCALENDAR
VERSION:2.0
PRODID:-//Contratero//ES
CALSCALE:GREGORIAN
METHOD:PUBLISH
BEGIN:VEVENT
UID:2024/NGS/000016@contratero.es
DTSTAMP:20260424T145655Z
DTSTART:20241219T235959
DTEND:20241220T005959
SUMMARY:Cierre: mantenimiento de IaaS de la base de datos espacial
DESCRIPTION:mantenimiento de IaaS de la base de datos espacial y del sistema de información geográfica (SIG) corporativo del ayuntamiento de Algeciras\\n\\nOrganismo: Alcaldía del Ayuntamiento de Algeciras\\n\\nVer en Contratero: https://contratero.es/contracts/2024/NGS/000016
URL:https://contratero.es/contracts/2024/NGS/000016
STATUS:CONFIRMED
BEGIN:VALARM
TRIGGER:-P1D
ACTION:DISPLAY
DESCRIPTION:Recordatorio: mantenimiento de IaaS de la ba
END:VALARM
END:VEVENT
END:VCALENDAR