BEGIN:VCALENDAR
VERSION:2.0
PRODID:-//Contratero//ES
CALSCALE:GREGORIAN
METHOD:PUBLISH
BEGIN:VEVENT
UID:2024/PL008.2@contratero.es
DTSTAMP:20260421T043236Z
DTSTART:20240327T235959
DTEND:20240328T005959
SUMMARY:Cierre: Servicio de registro de información sobre el estad
DESCRIPTION:Servicio de registro de información sobre el estado de la vía pública\, que alimenten la base de datos de Limpieza de Málaga S.A.M\, con especial consideración al precio y calidad del servicio como crit...\\n\\nOrganismo: Dirección Gerencia de Limpieza de Málaga Sociedad Anónima Municipal\\n\\nVer en Contratero: https://contratero.es/contracts/2024/PL008.2
URL:https://contratero.es/contracts/2024/PL008.2
STATUS:CONFIRMED
BEGIN:VALARM
TRIGGER:-P1D
ACTION:DISPLAY
DESCRIPTION:Recordatorio: Servicio de registro de inform
END:VALARM
END:VEVENT
END:VCALENDAR