BEGIN:VCALENDAR
VERSION:2.0
PRODID:-//Contratero//ES
CALSCALE:GREGORIAN
METHOD:PUBLISH
BEGIN:VEVENT
UID:2024/SP01010020/00000605E@contratero.es
DTSTAMP:20260420T165212Z
DTSTART:20240820T235959
DTEND:20240821T005959
SUMMARY:Cierre: "Servicio de proceso técnico de monografías y publ
DESCRIPTION:"Servicio de proceso técnico de monografías y publicaciones periódicas conservadas en bibliotecas del Ministerio de Defensa"\\n\\nOrganismo: Subdirección General de Servicios Económicos y Pagadurías\\n\\nVer en Contratero: https://contratero.es/contracts/2024/SP01010020/00000605E
URL:https://contratero.es/contracts/2024/SP01010020/00000605E
STATUS:CONFIRMED
BEGIN:VALARM
TRIGGER:-P1D
ACTION:DISPLAY
DESCRIPTION:Recordatorio: "Servicio de proceso técnico d
END:VALARM
END:VEVENT
END:VCALENDAR