BEGIN:VCALENDAR
VERSION:2.0
PRODID:-//Contratero//ES
CALSCALE:GREGORIAN
METHOD:PUBLISH
BEGIN:VEVENT
UID:202400000005@contratero.es
DTSTAMP:20260422T223003Z
DTSTART:20240403T235959
DTEND:20240404T005959
SUMMARY:Cierre: Servicio de monitorización y administración de los
DESCRIPTION:Servicio de monitorización y administración de los sistemas de Deuda Pública\\n\\nOrganismo: Junta de Contratación del Ministerio de Asuntos Económicos y Transformación Digital\\n\\nVer en Contratero: https://contratero.es/contracts/202400000005
URL:https://contratero.es/contracts/202400000005
STATUS:CONFIRMED
BEGIN:VALARM
TRIGGER:-P1D
ACTION:DISPLAY
DESCRIPTION:Recordatorio: Servicio de monitorización y a
END:VALARM
END:VEVENT
END:VCALENDAR