BEGIN:VCALENDAR
VERSION:2.0
PRODID:-//Contratero//ES
CALSCALE:GREGORIAN
METHOD:PUBLISH
BEGIN:VEVENT
UID:2024000010@contratero.es
DTSTAMP:20260425T210131Z
DTSTART:20240325T235959
DTEND:20240326T005959
SUMMARY:Cierre: Servicios de alojamiento y explotación de la infra
DESCRIPTION:Servicios de alojamiento y explotación de la infraestructura en la nube del Ministerio de Asuntos Exteriores\, Unión Europea y Cooperación.\\n\\nOrganismo: Junta de Contratación del Ministerio de Asuntos Exteriores\, Unión Europea y Cooperación\\n\\nVer en Contratero: https://contratero.es/contracts/2024000010
URL:https://contratero.es/contracts/2024000010
STATUS:CONFIRMED
BEGIN:VALARM
TRIGGER:-P1D
ACTION:DISPLAY
DESCRIPTION:Recordatorio: Servicios de alojamiento y exp
END:VALARM
END:VEVENT
END:VCALENDAR