BEGIN:VCALENDAR
VERSION:2.0
PRODID:-//Contratero//ES
CALSCALE:GREGORIAN
METHOD:PUBLISH
BEGIN:VEVENT
UID:2024000071@contratero.es
DTSTAMP:20260421T234234Z
DTSTART:20241118T235959
DTEND:20241119T005959
SUMMARY:Cierre: Suministro de infraestructura TIC y puestos de tra
DESCRIPTION:Suministro de infraestructura TIC y puestos de trabajo para los proyectos de Información Clasificada recogidos en el Plan de Digitalización Consular del Ministerio de Asuntos Exteriores\, Unión Europea...\\n\\nOrganismo: Subsecretaría de Asuntos Exteriores\, Unión Europea y Cooperación\\n\\nVer en Contratero: https://contratero.es/contracts/2024000071
URL:https://contratero.es/contracts/2024000071
STATUS:CONFIRMED
BEGIN:VALARM
TRIGGER:-P1D
ACTION:DISPLAY
DESCRIPTION:Recordatorio: Suministro de infraestructura 
END:VALARM
END:VEVENT
END:VCALENDAR