BEGIN:VCALENDAR
VERSION:2.0
PRODID:-//Contratero//ES
CALSCALE:GREGORIAN
METHOD:PUBLISH
BEGIN:VEVENT
UID:20240002072@contratero.es
DTSTAMP:20260421T234424Z
DTSTART:20240610T235959
DTEND:20240611T005959
SUMMARY:Cierre: Mantenimiento de la aplicación de cita previa del 
DESCRIPTION:Mantenimiento de la aplicación de cita previa del Ayuntamiento de Teruel\\n\\nOrganismo: Junta de Gobierno Local del Ayuntamiento de Teruel\\n\\nVer en Contratero: https://contratero.es/contracts/20240002072
URL:https://contratero.es/contracts/20240002072
STATUS:CONFIRMED
BEGIN:VALARM
TRIGGER:-P1D
ACTION:DISPLAY
DESCRIPTION:Recordatorio: Mantenimiento de la aplicación
END:VALARM
END:VEVENT
END:VCALENDAR