BEGIN:VCALENDAR
VERSION:2.0
PRODID:-//Contratero//ES
CALSCALE:GREGORIAN
METHOD:PUBLISH
BEGIN:VEVENT
UID:2024000290@contratero.es
DTSTAMP:20260421T014821Z
DTSTART:20240705T235959
DTEND:20240706T005959
SUMMARY:Cierre: Servicio de seguimiento e investigación de pesquer
DESCRIPTION:Servicio de seguimiento e investigación de pesquerías a través de sistemas de geolocalización de la flota pesquera.\\n\\nOrganismo: Consejería de Medio Rural y Política Agraria\\n\\nVer en Contratero: https://contratero.es/contracts/2024000290
URL:https://contratero.es/contracts/2024000290
STATUS:CONFIRMED
BEGIN:VALARM
TRIGGER:-P1D
ACTION:DISPLAY
DESCRIPTION:Recordatorio: Servicio de seguimiento e inve
END:VALARM
END:VEVENT
END:VCALENDAR