BEGIN:VCALENDAR
VERSION:2.0
PRODID:-//Contratero//ES
CALSCALE:GREGORIAN
METHOD:PUBLISH
BEGIN:VEVENT
UID:2024000732@contratero.es
DTSTAMP:20260422T025225Z
DTSTART:20241212T235959
DTEND:20241213T005959
SUMMARY:Cierre: Licencias correo electrónico y herramientas colabo
DESCRIPTION:Licencias correo electrónico y herramientas colaborativas para el Servicio de Salud de Principado de Asturias.\\n\\nOrganismo: Servicio de Salud - Servicios Centrales\\n\\nVer en Contratero: https://contratero.es/contracts/2024000732
URL:https://contratero.es/contracts/2024000732
STATUS:CONFIRMED
BEGIN:VALARM
TRIGGER:-P1D
ACTION:DISPLAY
DESCRIPTION:Recordatorio: Licencias correo electrónico y
END:VALARM
END:VEVENT
END:VCALENDAR