BEGIN:VCALENDAR
VERSION:2.0
PRODID:-//Contratero//ES
CALSCALE:GREGORIAN
METHOD:PUBLISH
BEGIN:VEVENT
UID:2024002269.@contratero.es
DTSTAMP:20260424T074542Z
DTSTART:20241126T235959
DTEND:20241127T005959
SUMMARY:Cierre: Servicio de evolucion y gestion de la red Smartpem
DESCRIPTION:Servicio de evolucion y gestion de la red Smartpeme y oficinas acelera Pyme rural (OAPR)\\n\\nOrganismo: Presidencia de la Diputación Provincial de Pontevedra\\n\\nVer en Contratero: https://contratero.es/contracts/2024002269.
URL:https://contratero.es/contracts/2024002269.
STATUS:CONFIRMED
BEGIN:VALARM
TRIGGER:-P1D
ACTION:DISPLAY
DESCRIPTION:Recordatorio: Servicio de evolucion y gestio
END:VALARM
END:VEVENT
END:VCALENDAR