BEGIN:VCALENDAR
VERSION:2.0
PRODID:-//Contratero//ES
CALSCALE:GREGORIAN
METHOD:PUBLISH
BEGIN:VEVENT
UID:2024048750@contratero.es
DTSTAMP:20260421T060056Z
DTSTART:20240923T235959
DTEND:20240924T005959
SUMMARY:Cierre: Servizo de asistencia técnica para el asesoramient
DESCRIPTION:Servizo de asistencia técnica para el asesoramiento empresarial al alumnado participante en el proyecto DepoEmprende en la FP\, integrado en el programa DepoEmprende 2024-2025.\\n\\nOrganismo: Presidencia de la Diputación Provincial de Pontevedra\\n\\nVer en Contratero: https://contratero.es/contracts/2024048750
URL:https://contratero.es/contracts/2024048750
STATUS:CONFIRMED
BEGIN:VALARM
TRIGGER:-P1D
ACTION:DISPLAY
DESCRIPTION:Recordatorio: Servizo de asistencia técnica 
END:VALARM
END:VEVENT
END:VCALENDAR