BEGIN:VCALENDAR
VERSION:2.0
PRODID:-//Contratero//ES
CALSCALE:GREGORIAN
METHOD:PUBLISH
BEGIN:VEVENT
UID:202405PA0011@contratero.es
DTSTAMP:20260423T224516Z
DTSTART:20241209T235959
DTEND:20241210T005959
SUMMARY:Cierre: Servicios de consultoría y asistencia técnica expe
DESCRIPTION:Servicios de consultoría y asistencia técnica experta a usuarios finales de aplicaciones del Ministerio de Sanidad.\\n\\nOrganismo: Secretaría General de Salud Digital\, Información e Innovacion del Sistema Nacional de Salud\\n\\nVer en Contratero: https://contratero.es/contracts/202405PA0011
URL:https://contratero.es/contracts/202405PA0011
STATUS:CONFIRMED
BEGIN:VALARM
TRIGGER:-P1D
ACTION:DISPLAY
DESCRIPTION:Recordatorio: Servicios de consultoría y asi
END:VALARM
END:VEVENT
END:VCALENDAR