BEGIN:VCALENDAR
VERSION:2.0
PRODID:-//Contratero//ES
CALSCALE:GREGORIAN
METHOD:PUBLISH
BEGIN:VEVENT
UID:2024065SERNE@contratero.es
DTSTAMP:20260421T165313Z
DTSTART:20240606T235959
DTEND:20240607T005959
SUMMARY:Cierre: Servicio de diseño y comunicación para el proyecto
DESCRIPTION:Servicio de diseño y comunicación para el proyecto CA21146 - Fundamentals and applications of purple bacteria biotechnology for resource recovery from waste (PURPLEGAIN) correspondiente a las anualida...\\n\\nOrganismo: Rectorado de la Universidad Rey Juan Carlos\\n\\nVer en Contratero: https://contratero.es/contracts/2024065SERNE
URL:https://contratero.es/contracts/2024065SERNE
STATUS:CONFIRMED
BEGIN:VALARM
TRIGGER:-P1D
ACTION:DISPLAY
DESCRIPTION:Recordatorio: Servicio de diseño y comunicac
END:VALARM
END:VEVENT
END:VCALENDAR