BEGIN:VCALENDAR
VERSION:2.0
PRODID:-//Contratero//ES
CALSCALE:GREGORIAN
METHOD:PUBLISH
BEGIN:VEVENT
UID:2024076SUMASA@contratero.es
DTSTAMP:20260424T033406Z
DTSTART:20240617T235959
DTEND:20240618T005959
SUMMARY:Cierre: Suministro de licencia de la solución in Suit\, de 
DESCRIPTION:Suministro de licencia de la solución in Suit\, de accesibilidad y usabilidad web para los dominios www.urjc.es y sede.urjc.es para la Universidad Rey Juan Carlos\\n\\nOrganismo: Rectorado de la Universidad Rey Juan Carlos\\n\\nVer en Contratero: https://contratero.es/contracts/2024076SUMASA
URL:https://contratero.es/contracts/2024076SUMASA
STATUS:CONFIRMED
BEGIN:VALARM
TRIGGER:-P1D
ACTION:DISPLAY
DESCRIPTION:Recordatorio: Suministro de licencia de la s
END:VALARM
END:VEVENT
END:VCALENDAR