BEGIN:VCALENDAR
VERSION:2.0
PRODID:-//Contratero//ES
CALSCALE:GREGORIAN
METHOD:PUBLISH
BEGIN:VEVENT
UID:20241115-00686@contratero.es
DTSTAMP:20260424T140701Z
DTSTART:20241202T235959
DTEND:20241203T005959
SUMMARY:Cierre: El objeto del presente contrato es el servicio de 
DESCRIPTION:El objeto del presente contrato es el servicio de suscripción a las licencias del software SAP HANA en la modalidad RISE\, así como los servicios de soporte técnico\, mantenimiento y resolución de incid...\\n\\nOrganismo: Ineco-Comité de Dirección\\n\\nVer en Contratero: https://contratero.es/contracts/20241115-00686
URL:https://contratero.es/contracts/20241115-00686
STATUS:CONFIRMED
BEGIN:VALARM
TRIGGER:-P1D
ACTION:DISPLAY
DESCRIPTION:Recordatorio: El objeto del presente contrat
END:VALARM
END:VEVENT
END:VCALENDAR