BEGIN:VCALENDAR
VERSION:2.0
PRODID:-//Contratero//ES
CALSCALE:GREGORIAN
METHOD:PUBLISH
BEGIN:VEVENT
UID:2024C0000004@contratero.es
DTSTAMP:20260425T154211Z
DTSTART:20240416T235959
DTEND:20240417T005959
SUMMARY:Cierre: Asistencia y soporte técnico a los usuarios finale
DESCRIPTION:Asistencia y soporte técnico a los usuarios finales y gestión logística en los puestos de trabajo de los usuarios pertenecientes a la Agencia Estatal de Investigación\, en el ámbito de las TIC\\n\\nOrganismo: Agencia Estatal de Investigación\\n\\nVer en Contratero: https://contratero.es/contracts/2024C0000004
URL:https://contratero.es/contracts/2024C0000004
STATUS:CONFIRMED
BEGIN:VALARM
TRIGGER:-P1D
ACTION:DISPLAY
DESCRIPTION:Recordatorio: Asistencia y soporte técnico a
END:VALARM
END:VEVENT
END:VCALENDAR