BEGIN:VCALENDAR
VERSION:2.0
PRODID:-//Contratero//ES
CALSCALE:GREGORIAN
METHOD:PUBLISH
BEGIN:VEVENT
UID:2024N0074050@contratero.es
DTSTAMP:20260423T103308Z
DTSTART:20241021T235959
DTEND:20241022T005959
SUMMARY:Cierre: Licencias de desarrollo de aplicaciones para el In
DESCRIPTION:Licencias de desarrollo de aplicaciones para el Instituto Nacional de Estadística\\n\\nOrganismo: Instituto Nacional de Estadística INE\\n\\nVer en Contratero: https://contratero.es/contracts/2024N0074050
URL:https://contratero.es/contracts/2024N0074050
STATUS:CONFIRMED
BEGIN:VALARM
TRIGGER:-P1D
ACTION:DISPLAY
DESCRIPTION:Recordatorio: Licencias de desarrollo de apl
END:VALARM
END:VEVENT
END:VCALENDAR