BEGIN:VCALENDAR
VERSION:2.0
PRODID:-//Contratero//ES
CALSCALE:GREGORIAN
METHOD:PUBLISH
BEGIN:VEVENT
UID:2024SDA29@contratero.es
DTSTAMP:20260421T220315Z
DTSTART:20250220T235959
DTEND:20250221T005959
SUMMARY:Cierre: Suministro del derecho de uso y soporte de licenci
DESCRIPTION:Suministro del derecho de uso y soporte de licencias de diversos productos software del sistema de información geográfica de Informática del Ayuntamiento de Madrid.\\n\\nOrganismo: Organismo Autónomo Informática del Ayuntamiento de Madrid\\n\\nVer en Contratero: https://contratero.es/contracts/2024SDA29
URL:https://contratero.es/contracts/2024SDA29
STATUS:CONFIRMED
BEGIN:VALARM
TRIGGER:-P1D
ACTION:DISPLAY
DESCRIPTION:Recordatorio: Suministro del derecho de uso 
END:VALARM
END:VEVENT
END:VCALENDAR