BEGIN:VCALENDAR
VERSION:2.0
PRODID:-//Contratero//ES
CALSCALE:GREGORIAN
METHOD:PUBLISH
BEGIN:VEVENT
UID:2024_028@contratero.es
DTSTAMP:20260422T044604Z
DTSTART:20241022T235959
DTEND:20241023T005959
SUMMARY:Cierre: Servicio de mantenimiento de los módulos del softw
DESCRIPTION:Servicio de mantenimiento de los módulos del software Universitas XXI de que dispone la Universidad Miguel Hernández de Elche y del servicio de apoyo a la Infraestructuras de estos módulos.\\n\\nOrganismo: Rectorado de la Universidad Miguel Hernández de Elche\\n\\nVer en Contratero: https://contratero.es/contracts/2024_028
URL:https://contratero.es/contracts/2024_028
STATUS:CONFIRMED
BEGIN:VALARM
TRIGGER:-P1D
ACTION:DISPLAY
DESCRIPTION:Recordatorio: Servicio de mantenimiento de l
END:VALARM
END:VEVENT
END:VCALENDAR