BEGIN:VCALENDAR
VERSION:2.0
PRODID:-//Contratero//ES
CALSCALE:GREGORIAN
METHOD:PUBLISH
BEGIN:VEVENT
UID:2024_059@contratero.es
DTSTAMP:20260423T085640Z
DTSTART:20250206T235959
DTEND:20250207T005959
SUMMARY:Cierre: Servicio de adaptaciones y resolución de incidenci
DESCRIPTION:Servicio de adaptaciones y resolución de incidencias aplicación web SGQ.UMH.ES de la Universidad Miguel Hernández de Elche\\n\\nOrganismo: Rectorado de la Universidad Miguel Hernández de Elche\\n\\nVer en Contratero: https://contratero.es/contracts/2024_059
URL:https://contratero.es/contracts/2024_059
STATUS:CONFIRMED
BEGIN:VALARM
TRIGGER:-P1D
ACTION:DISPLAY
DESCRIPTION:Recordatorio: Servicio de adaptaciones y res
END:VALARM
END:VEVENT
END:VCALENDAR