BEGIN:VCALENDAR
VERSION:2.0
PRODID:-//Contratero//ES
CALSCALE:GREGORIAN
METHOD:PUBLISH
BEGIN:VEVENT
UID:2025-00005@contratero.es
DTSTAMP:20260421T090631Z
DTSTART:20250331T235959
DTEND:20250401T005959
SUMMARY:Cierre: Nueva Plataforma de Observabilidad para la Autorid
DESCRIPTION:Nueva Plataforma de Observabilidad para la Autoridad Portuaria de Barcelona. Clave de expediente: 2024R320040.\\n\\nOrganismo: Presidencia del Consejo de Administración de la Autoridad Portuaria de Barcelona (PORT DE BARCELONA)\\n\\nVer en Contratero: https://contratero.es/contracts/2025-00005
URL:https://contratero.es/contracts/2025-00005
STATUS:CONFIRMED
BEGIN:VALARM
TRIGGER:-P1D
ACTION:DISPLAY
DESCRIPTION:Recordatorio: Nueva Plataforma de Observabil
END:VALARM
END:VEVENT
END:VCALENDAR