BEGIN:VCALENDAR
VERSION:2.0
PRODID:-//Contratero//ES
CALSCALE:GREGORIAN
METHOD:PUBLISH
BEGIN:VEVENT
UID:2025-00215@contratero.es
DTSTAMP:20260424T175103Z
DTSTART:20251027T235959
DTEND:20251028T005959
SUMMARY:Cierre: Implantacion de un sistema de ciberseguridad para 
DESCRIPTION:Implantacion de un sistema de ciberseguridad para detectar y responder amenazas para la Autoridad Portuaria de Barcelona. Clave de expediente: 2025R330006.\\n\\nOrganismo: Presidencia del Consejo de Administración de la Autoridad Portuaria de Barcelona (PORT DE BARCELONA)\\n\\nVer en Contratero: https://contratero.es/contracts/2025-00215
URL:https://contratero.es/contracts/2025-00215
STATUS:CONFIRMED
BEGIN:VALARM
TRIGGER:-P1D
ACTION:DISPLAY
DESCRIPTION:Recordatorio: Implantacion de un sistema de 
END:VALARM
END:VEVENT
END:VCALENDAR