BEGIN:VCALENDAR
VERSION:2.0
PRODID:-//Contratero//ES
CALSCALE:GREGORIAN
METHOD:PUBLISH
BEGIN:VEVENT
UID:2025-00274@contratero.es
DTSTAMP:20260421T040027Z
DTSTART:20251027T235959
DTEND:20251028T005959
SUMMARY:Cierre: Servicio de oficina tecnica de las aplicaciones de
DESCRIPTION:Servicio de oficina tecnica de las aplicaciones de negocio. Clave de expediente:2025R340044\\n\\nOrganismo: Presidencia del Consejo de Administración de la Autoridad Portuaria de Barcelona (PORT DE BARCELONA)\\n\\nVer en Contratero: https://contratero.es/contracts/2025-00274
URL:https://contratero.es/contracts/2025-00274
STATUS:CONFIRMED
BEGIN:VALARM
TRIGGER:-P1D
ACTION:DISPLAY
DESCRIPTION:Recordatorio: Servicio de oficina tecnica de
END:VALARM
END:VEVENT
END:VCALENDAR