BEGIN:VCALENDAR
VERSION:2.0
PRODID:-//Contratero//ES
CALSCALE:GREGORIAN
METHOD:PUBLISH
BEGIN:VEVENT
UID:2025-00340@contratero.es
DTSTAMP:20260420T061605Z
DTSTART:20251017T235959
DTEND:20251018T005959
SUMMARY:Cierre: Servicio de mantenimiento de licencias TOAD
DESCRIPTION:Servicio de mantenimiento de licencias TOAD\\n\\nOrganismo: Presidencia del Consejo de Administración de la Autoridad Portuaria de Barcelona (PORT DE BARCELONA)\\n\\nVer en Contratero: https://contratero.es/contracts/2025-00340
URL:https://contratero.es/contracts/2025-00340
STATUS:CONFIRMED
BEGIN:VALARM
TRIGGER:-P1D
ACTION:DISPLAY
DESCRIPTION:Recordatorio: Servicio de mantenimiento de l
END:VALARM
END:VEVENT
END:VCALENDAR