BEGIN:VCALENDAR
VERSION:2.0
PRODID:-//Contratero//ES
CALSCALE:GREGORIAN
METHOD:PUBLISH
BEGIN:VEVENT
UID:2025-00412@contratero.es
DTSTAMP:20260423T150603Z
DTSTART:20260119T235959
DTEND:20260120T005959
SUMMARY:Cierre: Suministro de licencias y servicio de implantación
DESCRIPTION:Suministro de licencias y servicio de implantación para reserva de plazas de aparcamiento Clave de expediente: 2025R340063 Ref. Servicio de Contratación: 2025-00412\\n\\nOrganismo: Presidencia del Consejo de Administración de la Autoridad Portuaria de Barcelona (PORT DE BARCELONA)\\n\\nVer en Contratero: https://contratero.es/contracts/2025-00412
URL:https://contratero.es/contracts/2025-00412
STATUS:CONFIRMED
BEGIN:VALARM
TRIGGER:-P1D
ACTION:DISPLAY
DESCRIPTION:Recordatorio: Suministro de licencias y serv
END:VALARM
END:VEVENT
END:VCALENDAR