BEGIN:VCALENDAR
VERSION:2.0
PRODID:-//Contratero//ES
CALSCALE:GREGORIAN
METHOD:PUBLISH
BEGIN:VEVENT
UID:2025-006@contratero.es
DTSTAMP:20260421T154303Z
DTSTART:20250613T235959
DTEND:20250614T005959
SUMMARY:Cierre: Suministro de licencias Salesforce CRM y Salesforc
DESCRIPTION:Suministro de licencias Salesforce CRM y Salesforce  Marketing Cloud para INFORMA D&B\, S.A.U. (S.M.E.)\\n\\nOrganismo: Junta de Compras de Informa DB\, S.A.\\n\\nVer en Contratero: https://contratero.es/contracts/2025-006
URL:https://contratero.es/contracts/2025-006
STATUS:CONFIRMED
BEGIN:VALARM
TRIGGER:-P1D
ACTION:DISPLAY
DESCRIPTION:Recordatorio: Suministro de licencias Salesf
END:VALARM
END:VEVENT
END:VCALENDAR