BEGIN:VCALENDAR
VERSION:2.0
PRODID:-//Contratero//ES
CALSCALE:GREGORIAN
METHOD:PUBLISH
BEGIN:VEVENT
UID:2025-007@contratero.es
DTSTAMP:20260422T182700Z
DTSTART:20250218T235959
DTEND:20250219T005959
SUMMARY:Cierre: Suministro de 100 licencias del antivirus Panda Fu
DESCRIPTION:Suministro de 100 licencias del antivirus Panda Fusion 360 con tres años de soporte y actualizaciones (Mediante procedimiento abierto simplificado según el artículo 159.6 Ley 9/2017)\\n\\nOrganismo: Gerencia Calviá 2000\\n\\nVer en Contratero: https://contratero.es/contracts/2025-007
URL:https://contratero.es/contracts/2025-007
STATUS:CONFIRMED
BEGIN:VALARM
TRIGGER:-P1D
ACTION:DISPLAY
DESCRIPTION:Recordatorio: Suministro de 100 licencias de
END:VALARM
END:VEVENT
END:VCALENDAR