BEGIN:VCALENDAR
VERSION:2.0
PRODID:-//Contratero//ES
CALSCALE:GREGORIAN
METHOD:PUBLISH
BEGIN:VEVENT
UID:2025-00940@contratero.es
DTSTAMP:20260421T104517Z
DTSTART:20250709T235959
DTEND:20250710T005959
SUMMARY:Cierre: Contratación de los servicios de consultoría en ej
DESCRIPTION:Contratación de los servicios de consultoría en ejecución\, documentación y automatización de pruebas de aplicaciones judiciales.\\n\\nOrganismo: Consejero Delegado de Ingeniería de Sistemas para la Defensa de España S.A.\, S.M.E. y M.P.\\n\\nVer en Contratero: https://contratero.es/contracts/2025-00940
URL:https://contratero.es/contracts/2025-00940
STATUS:CONFIRMED
BEGIN:VALARM
TRIGGER:-P1D
ACTION:DISPLAY
DESCRIPTION:Recordatorio: Contratación de los servicios 
END:VALARM
END:VEVENT
END:VCALENDAR