BEGIN:VCALENDAR
VERSION:2.0
PRODID:-//Contratero//ES
CALSCALE:GREGORIAN
METHOD:PUBLISH
BEGIN:VEVENT
UID:2025-01@contratero.es
DTSTAMP:20260421T234212Z
DTSTART:20250318T235959
DTEND:20250319T005959
SUMMARY:Cierre: Servicios de asistencia técnica para el mantenimie
DESCRIPTION:Servicios de asistencia técnica para el mantenimiento\, administración y actualización de la seguridad de los sistemas informáticos en el ámbito de la Subsecretaría del Departamento\\n\\nOrganismo: Junta de Contratación de los Servicios Centrales en el Ministerio de Hacienda\\n\\nVer en Contratero: https://contratero.es/contracts/2025-01
URL:https://contratero.es/contracts/2025-01
STATUS:CONFIRMED
BEGIN:VALARM
TRIGGER:-P1D
ACTION:DISPLAY
DESCRIPTION:Recordatorio: Servicios de asistencia técnic
END:VALARM
END:VEVENT
END:VCALENDAR